BEGIN:VCALENDAR
VERSION:2.0
PRODID:-//Tukios.com/
BEGIN:VEVENT
UID:ef4440e9-e5da-48db-838f-59d2b90de465@www.daviddonehower.com
DTSTAMP:20260421T062749Z
DTSTART:20260502T160000Z
DTEND:20260502T170000Z
SUMMARY:Inurnment
DESCRIPTION:
URL:https://www.daviddonehower.com/obituaries/kenneth-chapman
LOCATION:Holy Rosary Catholic Cemetery 1000 Rossman Ave  Detroit Lakes MN 
	56501
GEO:46.8149399;-95.8527554
END:VEVENT
END:VCALENDAR